BEGIN:VCALENDAR
PRODID:-//www.prestosports.com//PrestoSports//EN
VERSION:2.0
CALSCALE:GREGORIAN
BEGIN:VEVENT
DTSTAMP:20240411T093237Z
DTSTART:20211121T030000Z
DURATION:PT3H
SUMMARY:(Women's Volleyball) Westmont (Calif.) vs. Oregon Tech
TRANSP:TRANSPARENT
CATEGORIES:Women's Volleyball
DESCRIPTION:Women's Volleyball: (Women's Volleyball) Westmont (Calif.) vs. Oregon Tech\, Final\, 3-0
UID:rkn91nsrjx7f89t8@prestosports.com
END:VEVENT
END:VCALENDAR
