BEGIN:VCALENDAR
PRODID:-//www.prestosports.com//PrestoSports//EN
VERSION:2.0
CALSCALE:GREGORIAN
BEGIN:VEVENT
DTSTAMP:20240411T094747Z
DTSTART:20211121T000000Z
DURATION:PT3H
SUMMARY:(Women's Volleyball) IU South Bend (Ind.) vs. Viterbo
TRANSP:TRANSPARENT
CATEGORIES:Women's Volleyball
DESCRIPTION:Women's Volleyball: (Women's Volleyball) IU South Bend (Ind.) vs. Viterbo\, NAIA Opening Round\, Final\, 3-0
UID:oz0lq05ozc3j8aji@prestosports.com
END:VEVENT
END:VCALENDAR
