BEGIN:VCALENDAR
PRODID:-//www.prestosports.com//PrestoSports//EN
VERSION:2.0
CALSCALE:GREGORIAN
BEGIN:VEVENT
DTSTAMP:20240411T094724Z
DTSTART:20211120T230000Z
DURATION:PT3H
SUMMARY:(Women's Volleyball) Bryan (Tenn.) at Marian (Ind.)
TRANSP:TRANSPARENT
CATEGORIES:Women's Volleyball
DESCRIPTION:Women's Volleyball: (Women's Volleyball) Bryan (Tenn.) at Marian (Ind.)\, NAIA National Championship - Opening Round\, Final\, 1-3
UID:2g68gh635h9pxhv4@prestosports.com
END:VEVENT
END:VCALENDAR
