BEGIN:VCALENDAR
PRODID:-//www.prestosports.com//PrestoSports//EN
VERSION:2.0
CALSCALE:GREGORIAN
BEGIN:VEVENT
DTSTAMP:20240411T093753Z
DTSTART:20211121T000000Z
DURATION:PT3H
SUMMARY:(Women's Volleyball) Saint Xavier (Ill.) vs. Dakota Wesleyan (S.D.)
TRANSP:TRANSPARENT
CATEGORIES:Women's Volleyball
LOCATION:Mitchell\, S.D.
DESCRIPTION:Women's Volleyball: (Women's Volleyball) Saint Xavier (Ill.) vs. Dakota Wesleyan (S.D.)\, 2021 NAIA National Championship Opening Round\, Final\, 1-3
UID:c40d92vnn5opxd7s@prestosports.com
END:VEVENT
END:VCALENDAR
