BEGIN:VCALENDAR
PRODID:-//www.prestosports.com//PrestoSports//EN
VERSION:2.0
CALSCALE:GREGORIAN
BEGIN:VEVENT
DTSTAMP:20240411T094754Z
DTSTART:20211120T200000Z
DURATION:PT3H
SUMMARY:(Women's Volleyball) Life at Xavier (La.)
TRANSP:TRANSPARENT
CATEGORIES:Women's Volleyball
DESCRIPTION:Women's Volleyball: (Women's Volleyball) Life at Xavier (La.)\, Final\, 3-0
UID:ufeala966bd3dk90@prestosports.com
END:VEVENT
END:VCALENDAR
