BEGIN:VCALENDAR
PRODID:-//www.prestosports.com//PrestoSports//EN
VERSION:2.0
CALSCALE:GREGORIAN
BEGIN:VEVENT
DTSTAMP:20240411T094731Z
DTSTART:20211120T210000Z
DURATION:PT3H
SUMMARY:(Women's Volleyball) McPherson at Jamestown (N.D.)
TRANSP:TRANSPARENT
CATEGORIES:Women's Volleyball
DESCRIPTION:Women's Volleyball: (Women's Volleyball) McPherson at Jamestown (N.D.)\, Final\, 0-3
UID:zmq5p07q1pfq9i4j@prestosports.com
END:VEVENT
END:VCALENDAR
