BEGIN:VCALENDAR
PRODID:-//www.prestosports.com//PrestoSports//EN
VERSION:2.0
CALSCALE:GREGORIAN
BEGIN:VEVENT
DTSTAMP:20240411T094752Z
DTSTART:20211120T170000Z
DURATION:PT3H
SUMMARY:(Women's Volleyball) SAGU (Texas) vs. Central Methodist (Mo.)
TRANSP:TRANSPARENT
CATEGORIES:Women's Volleyball
LOCATION:Fayette\, Mo.
DESCRIPTION:Women's Volleyball: (Women's Volleyball) SAGU (Texas) vs. Central Methodist (Mo.)\, NAIA National Championship - Opening Round\, Final\, 3-2
UID:u21qyv85uon2xfz2@prestosports.com
END:VEVENT
END:VCALENDAR
