BEGIN:VCALENDAR
PRODID:-//www.prestosports.com//PrestoSports//EN
VERSION:2.0
CALSCALE:GREGORIAN
BEGIN:VEVENT
DTSTAMP:20240411T094722Z
DTSTART:20211120T210000Z
DURATION:PT3H
SUMMARY:(Women's Volleyball) Texas Wesleyan vs. Columbia (MO)
TRANSP:TRANSPARENT
CATEGORIES:Women's Volleyball
DESCRIPTION:Women's Volleyball: (Women's Volleyball) Texas Wesleyan vs. Columbia (MO)\, Final\, 1-3
UID:as4psqv1zor0bxdi@prestosports.com
END:VEVENT
END:VCALENDAR
