BEGIN:VCALENDAR
PRODID:-//www.prestosports.com//PrestoSports//EN
VERSION:2.0
CALSCALE:GREGORIAN
BEGIN:VEVENT
DTSTAMP:20240411T094745Z
DTSTART:20211121T000000Z
DURATION:PT3H
SUMMARY:(Women's Volleyball) CIU at Eastern Oregon
TRANSP:TRANSPARENT
CATEGORIES:Women's Volleyball
DESCRIPTION:Women's Volleyball: (Women's Volleyball) CIU at Eastern Oregon\, Final\, 0-3
UID:thrhxzah00n0vdmm@prestosports.com
END:VEVENT
END:VCALENDAR
