BEGIN:VCALENDAR
PRODID:-//www.prestosports.com//PrestoSports//EN
VERSION:2.0
CALSCALE:GREGORIAN
BEGIN:VEVENT
DTSTAMP:20240411T093235Z
DTSTART:20211121T000000Z
DURATION:PT3H
SUMMARY:(Women's Volleyball) Bushnell vs. Montana Tech
TRANSP:TRANSPARENT
CATEGORIES:Women's Volleyball
LOCATION:Butte\, MT
DESCRIPTION:Women's Volleyball: (Women's Volleyball) Bushnell vs. Montana Tech\, Final\, 2-3
UID:s38c3giw73kogcko@prestosports.com
END:VEVENT
END:VCALENDAR
