BEGIN:VCALENDAR
PRODID:-//www.prestosports.com//PrestoSports//EN
VERSION:2.0
CALSCALE:GREGORIAN
BEGIN:VEVENT
DTSTAMP:20240411T094743Z
DTSTART:20211120T220000Z
DURATION:PT3H
SUMMARY:(Women's Volleyball) Dakota State (S.D.) vs. Grand View
TRANSP:TRANSPARENT
CATEGORIES:Women's Volleyball
LOCATION:Des Moines\, IA
DESCRIPTION:Women's Volleyball: (Women's Volleyball) Dakota State (S.D.) vs. Grand View\, Opening Round of the NAIA National Championship\, Final\, 3-1
UID:eqk6aqw4jxmkjq6x@prestosports.com
END:VEVENT
END:VCALENDAR
