BEGIN:VCALENDAR
PRODID:-//www.prestosports.com//PrestoSports//EN
VERSION:2.0
CALSCALE:GREGORIAN
BEGIN:VEVENT
DTSTAMP:20240411T094205Z
DTSTART:20211120T190000Z
DURATION:PT3H
SUMMARY:(Women's Volleyball) Ave Maria vs. Concordia (Neb.)
TRANSP:TRANSPARENT
CATEGORIES:Women's Volleyball
DESCRIPTION:Women's Volleyball: (Women's Volleyball) Ave Maria vs. Concordia (Neb.)\, Final\, 3-0
UID:u33qcs3ygmqqukie@prestosports.com
END:VEVENT
END:VCALENDAR
