BEGIN:VCALENDAR
PRODID:-//www.prestosports.com//PrestoSports//EN
VERSION:2.0
CALSCALE:GREGORIAN
BEGIN:VEVENT
DTSTAMP:20240411T093052Z
DTSTART:20211120T190000Z
DURATION:PT3H
SUMMARY:(Women's Volleyball) Bethel (Ind.) at Dordt (Iowa)
TRANSP:TRANSPARENT
CATEGORIES:Women's Volleyball
DESCRIPTION:Women's Volleyball: (Women's Volleyball) Bethel (Ind.) at Dordt (Iowa)\, NAIA National Championship Opening Round\, Final\, 0-3
UID:00pzi92rv0lmdydr@prestosports.com
END:VEVENT
END:VCALENDAR
