BEGIN:VCALENDAR
PRODID:-//www.prestosports.com//PrestoSports//EN
VERSION:2.0
CALSCALE:GREGORIAN
BEGIN:VEVENT
DTSTAMP:20240411T094154Z
DTSTART:20211120T200000Z
DURATION:PT3H
SUMMARY:(Women's Volleyball) Cornerstone at Midland
TRANSP:TRANSPARENT
CATEGORIES:Women's Volleyball
DESCRIPTION:Women's Volleyball: (Women's Volleyball) Cornerstone at Midland\, NAIA Opening Round\, Final\, 0-3
UID:maywvhmy9e59ucg3@prestosports.com
END:VEVENT
END:VCALENDAR
