BEGIN:VCALENDAR
PRODID:-//www.prestosports.com//PrestoSports//EN
VERSION:2.0
CALSCALE:GREGORIAN
BEGIN:VEVENT
DTSTAMP:20240411T093051Z
DTSTART:20211120T190000Z
DURATION:PT3H
SUMMARY:(Women's Volleyball) Midway vs. Park
TRANSP:TRANSPARENT
CATEGORIES:Women's Volleyball
LOCATION:Parkville\, Mo.
DESCRIPTION:Women's Volleyball: (Women's Volleyball) Midway vs. Park\, 2021 NAIA Women's Volleyball National Championship Opening Round\, Final\, 3-0
UID:c9di92hs026ah37c@prestosports.com
END:VEVENT
END:VCALENDAR
