BEGIN:VCALENDAR
PRODID:-//www.prestosports.com//PrestoSports//EN
VERSION:2.0
CALSCALE:GREGORIAN
BEGIN:VEVENT
DTSTAMP:20240411T094153Z
DTSTART:20211121T010000Z
DURATION:PT3H
SUMMARY:(Women's Volleyball) Florida National at College of Saint Mary (Neb.)
TRANSP:TRANSPARENT
CATEGORIES:Women's Volleyball
DESCRIPTION:Women's Volleyball: (Women's Volleyball) Florida National at College of Saint Mary (Neb.)\, NAIA National Championship Opening Round\, Final\, 0-3
UID:68ptaq9kauxlsvx6@prestosports.com
END:VEVENT
END:VCALENDAR
