BEGIN:VCALENDAR
PRODID:-//www.prestosports.com//PrestoSports//EN
VERSION:2.0
CALSCALE:GREGORIAN
BEGIN:VEVENT
DTSTAMP:20240411T094756Z
DTSTART:20211120T230000Z
DURATION:PT3H
SUMMARY:(Women's Volleyball) Blue Mountain vs. Missouri Baptist
TRANSP:TRANSPARENT
CATEGORIES:Women's Volleyball
DESCRIPTION:Women's Volleyball: (Women's Volleyball) Blue Mountain vs. Missouri Baptist\, 2021 NAIA Women&rsquo\;s Volleyball National Championship Opening Round\, Final\, 3-0
UID:p78kqx7886rl6pux@prestosports.com
END:VEVENT
END:VCALENDAR
