BEGIN:VCALENDAR
PRODID:-//www.prestosports.com//PrestoSports//EN
VERSION:2.0
CALSCALE:GREGORIAN
BEGIN:VEVENT
DTSTAMP:20240411T093713Z
DTSTART:20211120T210000Z
DURATION:PT3H
SUMMARY:(Women's Volleyball) Florida College vs. Providence (Mont.)
TRANSP:TRANSPARENT
CATEGORIES:Women's Volleyball
DESCRIPTION:Women's Volleyball: (Women's Volleyball) Florida College vs. Providence (Mont.)\, NAIA Opening Round\, Final\, 3-0
UID:db5l5swloh2dcdue@prestosports.com
END:VEVENT
END:VCALENDAR
