BEGIN:VCALENDAR
PRODID:-//www.prestosports.com//PrestoSports//EN
VERSION:2.0
CALSCALE:GREGORIAN
BEGIN:VEVENT
DTSTAMP:20240411T093756Z
DTSTART:20211120T223000Z
DURATION:PT3H
SUMMARY:(Women's Volleyball) IU Kokomo (Ind.) at Northwestern (Iowa)
TRANSP:TRANSPARENT
CATEGORIES:Women's Volleyball
DESCRIPTION:Women's Volleyball: (Women's Volleyball) IU Kokomo (Ind.) at Northwestern (Iowa)\, 2021 NAIA Women's Volleyball National Championship Opening Round\, Final\, 0-3
UID:lr00s1qd8tr29ihx@prestosports.com
END:VEVENT
END:VCALENDAR
