BEGIN:VCALENDAR
PRODID:-//www.prestosports.com//PrestoSports//EN
VERSION:2.0
CALSCALE:GREGORIAN
BEGIN:VEVENT
DTSTAMP:20240411T093747Z
DTSTART:20211120T220000Z
DURATION:PT3H
SUMMARY:(Women's Volleyball) Edward Waters at Bellevue (Neb.)
TRANSP:TRANSPARENT
CATEGORIES:Women's Volleyball
DESCRIPTION:Women's Volleyball: (Women's Volleyball) Edward Waters at Bellevue (Neb.)\, NAIA Opening Round | Bellevue West HS\, Final\, 0-3
UID:2m1z1eq7ucvtwxa7@prestosports.com
END:VEVENT
END:VCALENDAR
