BEGIN:VCALENDAR
PRODID:-//www.prestosports.com//PrestoSports//EN
VERSION:2.0
CALSCALE:GREGORIAN
BEGIN:VEVENT
DTSTAMP:20240411T095513Z
DTSTART:20221203T230000Z
DURATION:PT3H
SUMMARY:(Women's Volleyball) Columbia (MO) vs. Jamestown (N.D.)
TRANSP:TRANSPARENT
CATEGORIES:Women's Volleyball
LOCATION:Sioux City\, IA
DESCRIPTION:Women's Volleyball: (Women's Volleyball) Columbia (MO) vs. Jamestown (N.D.)\, NAIA Women's Volleyball Quarterfinal Round \, Final\, 3-0
UID:mr9gc536j4a4xvce@prestosports.com
END:VEVENT
BEGIN:VEVENT
DTSTAMP:20240411T095513Z
DTSTART:20221206T020000Z
DURATION:PT3H
SUMMARY:(Women's Volleyball) Midland vs. Jamestown (N.D.)
TRANSP:TRANSPARENT
CATEGORIES:Women's Volleyball
LOCATION:Sioux City\, IA
DESCRIPTION:Women's Volleyball: (Women's Volleyball) Midland vs. Jamestown (N.D.)\, NAIA Women's Volleyball Semifinal \, Final\, 3-2
UID:i6w8pqzhuf85tu3b@prestosports.com
END:VEVENT
BEGIN:VEVENT
DTSTAMP:20240411T095513Z
DTSTART:20221207T010000Z
DURATION:PT3H
SUMMARY:(Women's Volleyball) Jamestown (N.D.) vs. Corban (OR)
TRANSP:TRANSPARENT
CATEGORIES:Women's Volleyball
LOCATION:Sioux City\, Iowa
DESCRIPTION:Women's Volleyball: (Women's Volleyball) Jamestown (N.D.) vs. Corban (OR)\, NAIA Women's Volleyball Championship \, Final\, 3-2
UID:s0y6o83uvy60g8xu@prestosports.com
END:VEVENT
END:VCALENDAR
