BEGIN:VCALENDAR
PRODID:-//www.prestosports.com//PrestoSports//EN
VERSION:2.0
CALSCALE:GREGORIAN
BEGIN:VEVENT
DTSTAMP:20240411T095514Z
DTSTART:20221203T200000Z
DURATION:PT3H
SUMMARY:(Women's Volleyball) Corban (OR) vs. Park
TRANSP:TRANSPARENT
CATEGORIES:Women's Volleyball
LOCATION:Sioux City\, Iowa
DESCRIPTION:Women's Volleyball: (Women's Volleyball) Corban (OR) vs. Park\, NAIA Women's Volleyball Quarterfinal Roun\, Final\, 0-3
UID:9wc1kunhn6hqqgyp@prestosports.com
END:VEVENT
END:VCALENDAR
