BEGIN:VCALENDAR
PRODID:-//www.prestosports.com//PrestoSports//EN
VERSION:2.0
CALSCALE:GREGORIAN
BEGIN:VEVENT
DTSTAMP:20240411T095440Z
DTSTART:20221203T170000Z
DURATION:PT3H
SUMMARY:(Women's Volleyball) Marian (Ind.) vs. Eastern Oregon (OR)
TRANSP:TRANSPARENT
CATEGORIES:Women's Volleyball
LOCATION:Sioux City\, IA
DESCRIPTION:Women's Volleyball: (Women's Volleyball) Marian (Ind.) vs. Eastern Oregon (OR)\, NAIA Women's Volleyball Quarterfinal Round\, Final\, 3-0
UID:u6qwzo4414soaok0@prestosports.com
END:VEVENT
BEGIN:VEVENT
DTSTAMP:20240411T095440Z
DTSTART:20221205T230000Z
DURATION:PT3H
SUMMARY:(Women's Volleyball) Corban (OR) vs. Eastern Oregon (OR)
TRANSP:TRANSPARENT
CATEGORIES:Women's Volleyball
LOCATION:Sioux City\, IA
DESCRIPTION:Women's Volleyball: (Women's Volleyball) Corban (OR) vs. Eastern Oregon (OR)\, NAIA Women's Volleyball Semifinal\, Final\, 1-3
UID:60o6hfibeyl63xqa@prestosports.com
END:VEVENT
END:VCALENDAR
