BEGIN:VCALENDAR
PRODID:-//www.prestosports.com//PrestoSports//EN
VERSION:2.0
CALSCALE:GREGORIAN
BEGIN:VEVENT
DTSTAMP:20240411T095443Z
DTSTART:20221203T230000Z
DURATION:PT3H
SUMMARY:(Women's Volleyball) Columbia (MO) vs. Jamestown (N.D.)
TRANSP:TRANSPARENT
CATEGORIES:Women's Volleyball
LOCATION:Sioux City\, IA
DESCRIPTION:Women's Volleyball: (Women's Volleyball) Columbia (MO) vs. Jamestown (N.D.)\, NAIA Women's Volleyball Quarterfinal Round \, Final\, 0-3
UID:mr9gc536j4a4xvce@prestosports.com
END:VEVENT
END:VCALENDAR
