BEGIN:VCALENDAR
PRODID:-//www.prestosports.com//PrestoSports//EN
VERSION:2.0
CALSCALE:GREGORIAN
BEGIN:VEVENT
DTSTAMP:20240411T092242Z
DTSTART:20221119T220000Z
DURATION:PT3H
SUMMARY:(Women's Volleyball) Rocky Mountain vs. Indiana Wesleyan
TRANSP:TRANSPARENT
CATEGORIES:Women's Volleyball
DESCRIPTION:Women's Volleyball: (Women's Volleyball) Rocky Mountain vs. Indiana Wesleyan\, NAIA Women's Volleyball National Championship Opening Round\, Final\, 0-3
UID:a1cd7pwp3njgjl19@prestosports.com
END:VEVENT
END:VCALENDAR
