BEGIN:VCALENDAR
PRODID:-//www.prestosports.com//PrestoSports//EN
VERSION:2.0
CALSCALE:GREGORIAN
BEGIN:VEVENT
DTSTAMP:20240411T091710Z
DTSTART:20221119T230000Z
DURATION:PT3H
SUMMARY:(Women's Volleyball) Park- Gilbert vs. Marian (Ind.)
TRANSP:TRANSPARENT
CATEGORIES:Women's Volleyball
DESCRIPTION:Women's Volleyball: (Women's Volleyball) Park- Gilbert vs. Marian (Ind.)\, NAIA Opening Round\, Final\, 3-1
UID:px0w1nln1roqt2ev@prestosports.com
END:VEVENT
END:VCALENDAR
