BEGIN:VCALENDAR
PRODID:-//www.prestosports.com//PrestoSports//EN
VERSION:2.0
CALSCALE:GREGORIAN
BEGIN:VEVENT
DTSTAMP:20240411T092022Z
DTSTART:20221119T163000Z
DURATION:PT3H
SUMMARY:(Women's Volleyball) Bryan (Tenn.) at Missouri Baptist
TRANSP:TRANSPARENT
CATEGORIES:Women's Volleyball
DESCRIPTION:Women's Volleyball: (Women's Volleyball) Bryan (Tenn.) at Missouri Baptist\, NAIA Women's Volleyball National Championship Opening Round\, Final\, 0-3
UID:jel45qdcca1pr2dq@prestosports.com
END:VEVENT
END:VCALENDAR
