BEGIN:VCALENDAR
PRODID:-//www.prestosports.com//PrestoSports//EN
VERSION:2.0
CALSCALE:GREGORIAN
BEGIN:VEVENT
DTSTAMP:20240411T092258Z
DTSTART:20221119T180000Z
DURATION:PT3H
SUMMARY:(Women's Volleyball) Xavier (La.) at SAGU (Texas)
TRANSP:TRANSPARENT
CATEGORIES:Women's Volleyball
DESCRIPTION:Women's Volleyball: (Women's Volleyball) Xavier (La.) at SAGU (Texas)\, National Championship Tournament: Round 1\, Final\, 2-3
UID:4omdrcnuvo7svggj@prestosports.com
END:VEVENT
END:VCALENDAR
