BEGIN:VCALENDAR
PRODID:-//www.prestosports.com//PrestoSports//EN
VERSION:2.0
CALSCALE:GREGORIAN
BEGIN:VEVENT
DTSTAMP:20240411T092309Z
DTSTART:20221119T230000Z
DURATION:PT3H
SUMMARY:(Women's Volleyball) John Brown (Ark.) at Bellevue (Neb.)
TRANSP:TRANSPARENT
CATEGORIES:Women's Volleyball
DESCRIPTION:Women's Volleyball: (Women's Volleyball) John Brown (Ark.) at Bellevue (Neb.)\, NAIA National Championships - Opening Round\, Final\, 0-3
UID:ayqebln0lnfcq4ms@prestosports.com
END:VEVENT
END:VCALENDAR
