BEGIN:VCALENDAR
PRODID:-//www.prestosports.com//PrestoSports//EN
VERSION:2.0
CALSCALE:GREGORIAN
BEGIN:VEVENT
DTSTAMP:20240411T090454Z
DTSTART:20221119T170000Z
DURATION:PT3H
SUMMARY:(Women's Volleyball) Saint Xavier (Ill.) at Central Methodist (Mo.)
TRANSP:TRANSPARENT
CATEGORIES:Women's Volleyball
DESCRIPTION:Women's Volleyball: (Women's Volleyball) Saint Xavier (Ill.) at Central Methodist (Mo.)\, Fayette\, Mo. | NAIA National Championship - Opening Round\, Final\, 3-2
UID:ue62v2c4m3v2x00u@prestosports.com
END:VEVENT
END:VCALENDAR
