BEGIN:VCALENDAR
PRODID:-//www.prestosports.com//PrestoSports//EN
VERSION:2.0
CALSCALE:GREGORIAN
BEGIN:VEVENT
DTSTAMP:20240411T090838Z
DTSTART:20221119T180000Z
DURATION:PT3H
SUMMARY:(Women's Volleyball) St. Thomas vs. Cornerstone (MI)
TRANSP:TRANSPARENT
CATEGORIES:Women's Volleyball
DESCRIPTION:Women's Volleyball: (Women's Volleyball) St. Thomas vs. Cornerstone (MI)\, NAIA National Tournament Opening Round\, Final\, 3-1
UID:bhfrbdfactarf8ez@prestosports.com
END:VEVENT
END:VCALENDAR
