BEGIN:VCALENDAR
PRODID:-//www.prestosports.com//PrestoSports//EN
VERSION:2.0
CALSCALE:GREGORIAN
BEGIN:VEVENT
DTSTAMP:20240411T090837Z
DTSTART:20221120T013000Z
DURATION:PT3H
SUMMARY:(Women's Volleyball) Texas Wesleyan at Hastings (Neb.)
TRANSP:TRANSPARENT
CATEGORIES:Women's Volleyball
DESCRIPTION:Women's Volleyball: (Women's Volleyball) Texas Wesleyan at Hastings (Neb.)\, Hastings\, NE (NAIA National Championship Opening Round)\, Final\, 2-3
UID:womtpn6d1zyon5zb@prestosports.com
END:VEVENT
END:VCALENDAR
