BEGIN:VCALENDAR
PRODID:-//www.prestosports.com//PrestoSports//EN
VERSION:2.0
CALSCALE:GREGORIAN
BEGIN:VEVENT
DTSTAMP:20240411T092243Z
DTSTART:20221120T020000Z
DURATION:PT3H
SUMMARY:(Women's Volleyball) Westmont (Calif.) at Montana Tech
TRANSP:TRANSPARENT
CATEGORIES:Women's Volleyball
DESCRIPTION:Women's Volleyball: (Women's Volleyball) Westmont (Calif.) at Montana Tech\, Final\, 3-0
UID:4znd567fqkn5airo@prestosports.com
END:VEVENT
END:VCALENDAR
