BEGIN:VCALENDAR
PRODID:-//www.prestosports.com//PrestoSports//EN
VERSION:2.0
CALSCALE:GREGORIAN
BEGIN:VEVENT
DTSTAMP:20240411T092018Z
DTSTART:20221120T010000Z
DURATION:PT3H
SUMMARY:(Women's Volleyball) Benedictine Mesa (AZ) vs. Corban (OR)
TRANSP:TRANSPARENT
CATEGORIES:Women's Volleyball
DESCRIPTION:Women's Volleyball: (Women's Volleyball) Benedictine Mesa (AZ) vs. Corban (OR)\, NAIA National Tournament Opening Round\, Final\, 3-0
UID:bej088f50ol0dk6b@prestosports.com
END:VEVENT
END:VCALENDAR
