BEGIN:VCALENDAR
PRODID:-//www.prestosports.com//PrestoSports//EN
VERSION:2.0
CALSCALE:GREGORIAN
BEGIN:VEVENT
DTSTAMP:20240411T091357Z
DTSTART:20221119T190000Z
DURATION:PT3H
SUMMARY:(Women's Volleyball) Florida College (FL) vs. Concordia (Neb.)
TRANSP:TRANSPARENT
CATEGORIES:Women's Volleyball
DESCRIPTION:Women's Volleyball: (Women's Volleyball) Florida College (FL) vs. Concordia (Neb.)\, NAIA National Championship Opening Round\, Final\, 3-0
UID:hzqx0x16cjcqn9ua@prestosports.com
END:VEVENT
END:VCALENDAR
