BEGIN:VCALENDAR
PRODID:-//www.prestosports.com//PrestoSports//EN
VERSION:2.0
CALSCALE:GREGORIAN
BEGIN:VEVENT
DTSTAMP:20240411T090836Z
DTSTART:20221119T230000Z
DURATION:PT3H
SUMMARY:(Women's Volleyball) Philander Smith vs. Northwestern (Iowa)
TRANSP:TRANSPARENT
CATEGORIES:Women's Volleyball
DESCRIPTION:Women's Volleyball: (Women's Volleyball) Philander Smith vs. Northwestern (Iowa)\, NAIA National Tournament - Opening Round\, Final\, 3-0
UID:6ni8x9jqxtzpqsls@prestosports.com
END:VEVENT
END:VCALENDAR
