BEGIN:VCALENDAR
PRODID:-//www.prestosports.com//PrestoSports//EN
VERSION:2.0
CALSCALE:GREGORIAN
BEGIN:VEVENT
DTSTAMP:20240411T092308Z
DTSTART:20221120T010000Z
DURATION:PT3H
SUMMARY:(Women's Volleyball) Kansas Wesleyan vs. Dakota Wesleyan (S.D.)
TRANSP:TRANSPARENT
CATEGORIES:Women's Volleyball
DESCRIPTION:Women's Volleyball: (Women's Volleyball) Kansas Wesleyan vs. Dakota Wesleyan (S.D.)\, Mitchell\, S.D. |\, Final\, 3-0
UID:9f8mfbm77kfu49lk@prestosports.com
END:VEVENT
END:VCALENDAR
