BEGIN:VCALENDAR
PRODID:-//www.prestosports.com//PrestoSports//EN
VERSION:2.0
CALSCALE:GREGORIAN
BEGIN:VEVENT
DTSTAMP:20240411T092143Z
DTSTART:20221120T000000Z
DURATION:PT3H
SUMMARY:(Women's Volleyball) Campbellsville (KY) vs. Taylor (Ind.)
TRANSP:TRANSPARENT
CATEGORIES:Women's Volleyball
DESCRIPTION:Women's Volleyball: (Women's Volleyball) Campbellsville (KY) vs. Taylor (Ind.)\, NAIA National Tournament Opening Round\, Final\, 3-1
UID:u0aw5hexnbvlw6p1@prestosports.com
END:VEVENT
END:VCALENDAR
