BEGIN:VCALENDAR
PRODID:-//www.prestosports.com//PrestoSports//EN
VERSION:2.0
CALSCALE:GREGORIAN
BEGIN:VEVENT
DTSTAMP:20240411T092044Z
DTSTART:20221119T190000Z
DURATION:PT3H
SUMMARY:(Women's Volleyball) Cumberland (TN) vs. Park
TRANSP:TRANSPARENT
CATEGORIES:Women's Volleyball
DESCRIPTION:Women's Volleyball: (Women's Volleyball) Cumberland (TN) vs. Park\, Final\, 3-0
UID:hkxtw8plor1mqx9c@prestosports.com
END:VEVENT
END:VCALENDAR
