BEGIN:VCALENDAR
PRODID:-//www.prestosports.com//PrestoSports//EN
VERSION:2.0
CALSCALE:GREGORIAN
BEGIN:VEVENT
DTSTAMP:20240411T092246Z
DTSTART:20221119T230000Z
DURATION:PT3H
SUMMARY:(Women's Volleyball) Jessup University (CA) at Southern Oregon
TRANSP:TRANSPARENT
CATEGORIES:Women's Volleyball
DESCRIPTION:Women's Volleyball: (Women's Volleyball) Jessup University (CA) at Southern Oregon\, Final\, 2-3
UID:2ijy60bbpe9mzaq1@prestosports.com
END:VEVENT
END:VCALENDAR
