BEGIN:VCALENDAR
PRODID:-//www.prestosports.com//PrestoSports//EN
VERSION:2.0
CALSCALE:GREGORIAN
BEGIN:VEVENT
DTSTAMP:20240411T091231Z
DTSTART:20221119T230000Z
DURATION:PT3H
SUMMARY:(Women's Volleyball) Philander Smith at Northwestern (Iowa)
TRANSP:TRANSPARENT
CATEGORIES:Women's Volleyball
DESCRIPTION:Women's Volleyball: (Women's Volleyball) Philander Smith at Northwestern (Iowa)\, NAIA National Tournament - Opening Round\, Final\, 0-3
UID:6ni8x9jqxtzpqsls@prestosports.com
END:VEVENT
END:VCALENDAR
