BEGIN:VCALENDAR
PRODID:-//www.prestosports.com//PrestoSports//EN
VERSION:2.0
CALSCALE:GREGORIAN
BEGIN:VEVENT
DTSTAMP:20240411T090622Z
DTSTART:20221120T013000Z
DURATION:PT3H
SUMMARY:(Women's Volleyball) IU Kokomo (Ind.) at College of Saint Mary (Neb.)
TRANSP:TRANSPARENT
CATEGORIES:Women's Volleyball
DESCRIPTION:Women's Volleyball: (Women's Volleyball) IU Kokomo (Ind.) at College of Saint Mary (Neb.)\, NAIA National Championship Opening Round\, Final\, 1-3
UID:m6jg9bm409jga35p@prestosports.com
END:VEVENT
END:VCALENDAR
