BEGIN:VCALENDAR
PRODID:-//www.prestosports.com//PrestoSports//EN
VERSION:2.0
CALSCALE:GREGORIAN
BEGIN:VEVENT
DTSTAMP:20240411T091857Z
DTSTART:20221119T210000Z
DURATION:PT3H
SUMMARY:(Women's Volleyball) St. Ambrose at Jamestown (N.D.)
TRANSP:TRANSPARENT
CATEGORIES:Women's Volleyball
DESCRIPTION:Women's Volleyball: (Women's Volleyball) St. Ambrose at Jamestown (N.D.)\, NAIA Opening Round\, Final\, 0-3
UID:0w4lcsptj7wv8cj1@prestosports.com
END:VEVENT
END:VCALENDAR
