BEGIN:VCALENDAR
PRODID:-//www.prestosports.com//PrestoSports//EN
VERSION:2.0
CALSCALE:GREGORIAN
BEGIN:VEVENT
DTSTAMP:20240411T092241Z
DTSTART:20221120T000000Z
DURATION:PT3H
SUMMARY:(Women's Volleyball) Bethel (Ind.) vs. CIU (SC)
TRANSP:TRANSPARENT
CATEGORIES:Women's Volleyball
DESCRIPTION:Women's Volleyball: (Women's Volleyball) Bethel (Ind.) vs. CIU (SC)\, NAIA Women's Volleyball Championship - Opening Round\, Final\, 0-3
UID:4sf50931516qbhs5@prestosports.com
END:VEVENT
END:VCALENDAR
