BEGIN:VCALENDAR
PRODID:-//www.prestosports.com//PrestoSports//EN
VERSION:2.0
CALSCALE:GREGORIAN
BEGIN:VEVENT
DTSTAMP:20240411T092256Z
DTSTART:20221119T190000Z
DURATION:PT3H
SUMMARY:(Women's Volleyball) Ottawa (Kan.) vs. Columbia (MO)
TRANSP:TRANSPARENT
CATEGORIES:Women's Volleyball
DESCRIPTION:Women's Volleyball: (Women's Volleyball) Ottawa (Kan.) vs. Columbia (MO)\, NAIA Opening Round\, Final\, 3-0
UID:a8kxjrlsslaui2g8@prestosports.com
END:VEVENT
END:VCALENDAR
