BEGIN:VCALENDAR
PRODID:-//www.prestosports.com//PrestoSports//EN
VERSION:2.0
CALSCALE:GREGORIAN
BEGIN:VEVENT
DTSTAMP:20240411T090444Z
DTSTART:20221130T160000Z
DURATION:PT3H
SUMMARY:(Women's Volleyball) Saint Xavier (Ill.) vs. Eastern Oregon (OR)
TRANSP:TRANSPARENT
CATEGORIES:Women's Volleyball
LOCATION:Sioux City\, IA
DESCRIPTION:Women's Volleyball: (Women's Volleyball) Saint Xavier (Ill.) vs. Eastern Oregon (OR)\, NAIA Women's Volleyball Pool Play\, Final\, 1-3
UID:gqmqmcelqlhnpedc@prestosports.com
END:VEVENT
BEGIN:VEVENT
DTSTAMP:20240411T090444Z
DTSTART:20221130T160000Z
DURATION:PT3H
SUMMARY:(Women's Volleyball) Rocky Mountain vs. Jamestown (N.D.)
TRANSP:TRANSPARENT
CATEGORIES:Women's Volleyball
LOCATION:Sioux City\, IA
DESCRIPTION:Women's Volleyball: (Women's Volleyball) Rocky Mountain vs. Jamestown (N.D.)\, NAIA Women's Volleyball Pool Play \, Final\, 0-3
UID:omy9yzqpoxv85b7w@prestosports.com
END:VEVENT
BEGIN:VEVENT
DTSTAMP:20240411T090444Z
DTSTART:20221130T190000Z
DURATION:PT3H
SUMMARY:(Women's Volleyball) Westmont (Calif.) vs. Midland
TRANSP:TRANSPARENT
CATEGORIES:Women's Volleyball
LOCATION:Sioux City\, IA
DESCRIPTION:Women's Volleyball: (Women's Volleyball) Westmont (Calif.) vs. Midland\, NAIA Women's Volleyball Pool Play \, Final\, 3-1
UID:v9qsrdg7t5w5iis1@prestosports.com
END:VEVENT
BEGIN:VEVENT
DTSTAMP:20240411T090444Z
DTSTART:20221130T190000Z
DURATION:PT3H
SUMMARY:(Women's Volleyball) Hastings (Neb.) vs. Concordia (Neb.)
TRANSP:TRANSPARENT
CATEGORIES:Women's Volleyball
LOCATION:Sioux City\, IA
DESCRIPTION:Women's Volleyball: (Women's Volleyball) Hastings (Neb.) vs. Concordia (Neb.)\, NAIA Women's Volleyball Pool Play \, Final\, 1-3
UID:0lzatvjfsqsdmy0v@prestosports.com
END:VEVENT
BEGIN:VEVENT
DTSTAMP:20240411T090444Z
DTSTART:20221130T220000Z
DURATION:PT3H
SUMMARY:(Women's Volleyball) Bethel (Ind.) vs. Corban (OR)
TRANSP:TRANSPARENT
CATEGORIES:Women's Volleyball
LOCATION:Sioux City\, IA
DESCRIPTION:Women's Volleyball: (Women's Volleyball) Bethel (Ind.) vs. Corban (OR)\, NAIA Women's Volleyball Pool Play \, Final\, 0-3
UID:6jifwajfefq8x4f8@prestosports.com
END:VEVENT
BEGIN:VEVENT
DTSTAMP:20240411T090444Z
DTSTART:20221130T220000Z
DURATION:PT3H
SUMMARY:(Women's Volleyball) Marian (Ind.) vs. Northwestern (Iowa)
TRANSP:TRANSPARENT
CATEGORIES:Women's Volleyball
LOCATION:Sioux City IA
DESCRIPTION:Women's Volleyball: (Women's Volleyball) Marian (Ind.) vs. Northwestern (Iowa)\, NAIA Women's Volleyball Pool Play \, Final\, 3-1
UID:wc2ulh7avk2ackrg@prestosports.com
END:VEVENT
BEGIN:VEVENT
DTSTAMP:20240411T090444Z
DTSTART:20221201T010000Z
DURATION:PT3H
SUMMARY:(Women's Volleyball) Southern Oregon vs. Dakota Wesleyan (S.D.)
TRANSP:TRANSPARENT
CATEGORIES:Women's Volleyball
LOCATION:Sioux City\, IA
DESCRIPTION:Women's Volleyball: (Women's Volleyball) Southern Oregon vs. Dakota Wesleyan (S.D.)\, NAIA Women's Volleyball Pool Play \, Final\, 0-3
UID:zri1241t0nu3ug2g@prestosports.com
END:VEVENT
BEGIN:VEVENT
DTSTAMP:20240411T090444Z
DTSTART:20221201T010000Z
DURATION:PT3H
SUMMARY:(Women's Volleyball) Columbia (MO) vs. Missouri Baptist
TRANSP:TRANSPARENT
CATEGORIES:Women's Volleyball
LOCATION:Sioux City\, IA
DESCRIPTION:Women's Volleyball: (Women's Volleyball) Columbia (MO) vs. Missouri Baptist\, NAIA Women's Volleyball Pool Play \, Final\, 3-0
UID:wr9hved4czqtbxp9@prestosports.com
END:VEVENT
BEGIN:VEVENT
DTSTAMP:20240411T090444Z
DTSTART:20221201T160000Z
DURATION:PT3H
SUMMARY:(Women's Volleyball) Saint Xavier (Ill.) vs. Cornerstone (MI)
TRANSP:TRANSPARENT
CATEGORIES:Women's Volleyball
LOCATION:Tyson Events Center
DESCRIPTION:Women's Volleyball: (Women's Volleyball) Saint Xavier (Ill.) vs. Cornerstone (MI)\, NAIA Women's Volleyball Pool Play \, Final\, 2-3
UID:fifeqsulwk0a5w6j@prestosports.com
END:VEVENT
BEGIN:VEVENT
DTSTAMP:20240411T090444Z
DTSTART:20221201T160000Z
DURATION:PT3H
SUMMARY:(Women's Volleyball) Rocky Mountain vs. College of Saint Mary (Neb.)
TRANSP:TRANSPARENT
CATEGORIES:Women's Volleyball
LOCATION:Sioux City\, IA
DESCRIPTION:Women's Volleyball: (Women's Volleyball) Rocky Mountain vs. College of Saint Mary (Neb.)\, NAIA Women's Volleyball Pool Play \, Final\, 0-3
UID:kxy94fmh48t82d8a@prestosports.com
END:VEVENT
BEGIN:VEVENT
DTSTAMP:20240411T090444Z
DTSTART:20221201T190000Z
DURATION:PT3H
SUMMARY:(Women's Volleyball) Westmont (Calif.) vs. Bellevue (Neb.)
TRANSP:TRANSPARENT
CATEGORIES:Women's Volleyball
LOCATION:Sioux City\, IA
DESCRIPTION:Women's Volleyball: (Women's Volleyball) Westmont (Calif.) vs. Bellevue (Neb.)\, NAIA Women's Volleyball Pool Play \, Final\, 1-3
UID:tfazbx17tg86vu70@prestosports.com
END:VEVENT
BEGIN:VEVENT
DTSTAMP:20240411T090444Z
DTSTART:20221201T190000Z
DURATION:PT3H
SUMMARY:(Women's Volleyball) Hastings (Neb.) vs. Park
TRANSP:TRANSPARENT
CATEGORIES:Women's Volleyball
LOCATION:Sioux City\, IA
DESCRIPTION:Women's Volleyball: (Women's Volleyball) Hastings (Neb.) vs. Park\, NAIA Women's Volleyball Pool Play \, Final\, 1-3
UID:98isqlvagz8uteyf@prestosports.com
END:VEVENT
BEGIN:VEVENT
DTSTAMP:20240411T090444Z
DTSTART:20221201T220000Z
DURATION:PT3H
SUMMARY:(Women's Volleyball) Bethel (Ind.) vs. Taylor (Ind.)
TRANSP:TRANSPARENT
CATEGORIES:Women's Volleyball
LOCATION:Sioux City\, IA
DESCRIPTION:Women's Volleyball: (Women's Volleyball) Bethel (Ind.) vs. Taylor (Ind.)\, NAIA Women's Volleyball Pool Play \, Final\, 3-0
UID:89tybb6tp4vpczrs@prestosports.com
END:VEVENT
BEGIN:VEVENT
DTSTAMP:20240411T090444Z
DTSTART:20221201T220000Z
DURATION:PT3H
SUMMARY:(Women's Volleyball) Marian (Ind.) vs. SAGU (Texas)
TRANSP:TRANSPARENT
CATEGORIES:Women's Volleyball
LOCATION:Sioux City\, IA
DESCRIPTION:Women's Volleyball: (Women's Volleyball) Marian (Ind.) vs. SAGU (Texas)\, NAIA Women's Volleyball Pool Play \, Final\, 3-1
UID:c3myxuf7g6rs4zy4@prestosports.com
END:VEVENT
BEGIN:VEVENT
DTSTAMP:20240411T090444Z
DTSTART:20221202T010000Z
DURATION:PT3H
SUMMARY:(Women's Volleyball) Southern Oregon vs. MidAmerica Nazarene (Kan.)
TRANSP:TRANSPARENT
CATEGORIES:Women's Volleyball
LOCATION:Sioux City\, IA
DESCRIPTION:Women's Volleyball: (Women's Volleyball) Southern Oregon vs. MidAmerica Nazarene (Kan.)\, NAIA Women's Volleyball Pool Play \, Final\, 2-3
UID:rmf3r9mj44b2idwk@prestosports.com
END:VEVENT
BEGIN:VEVENT
DTSTAMP:20240411T090444Z
DTSTART:20221202T010000Z
DURATION:PT3H
SUMMARY:(Women's Volleyball) Columbia (MO) vs. Viterbo
TRANSP:TRANSPARENT
CATEGORIES:Women's Volleyball
LOCATION:Sioux City\, IA
DESCRIPTION:Women's Volleyball: (Women's Volleyball) Columbia (MO) vs. Viterbo\, NAIA Women's Volleyball Pool Play \, Final\, 3-1
UID:35nr0qm7cz5hsjfx@prestosports.com
END:VEVENT
BEGIN:VEVENT
DTSTAMP:20240411T090444Z
DTSTART:20221202T160000Z
DURATION:PT3H
SUMMARY:(Women's Volleyball) Cornerstone (MI) vs. Eastern Oregon (OR)
TRANSP:TRANSPARENT
CATEGORIES:Women's Volleyball
LOCATION:Tyson Events Center
DESCRIPTION:Women's Volleyball: (Women's Volleyball) Cornerstone (MI) vs. Eastern Oregon (OR)\, NAIA Women's Volleyball Pool Play \, Final\, 0-3
UID:yq19dqw179yhwzqs@prestosports.com
END:VEVENT
BEGIN:VEVENT
DTSTAMP:20240411T090444Z
DTSTART:20221202T160000Z
DURATION:PT3H
SUMMARY:(Women's Volleyball) Jamestown (N.D.) vs. College of Saint Mary (Neb.)
TRANSP:TRANSPARENT
CATEGORIES:Women's Volleyball
LOCATION:Sioux City\, IA
DESCRIPTION:Women's Volleyball: (Women's Volleyball) Jamestown (N.D.) vs. College of Saint Mary (Neb.)\, NAIA Women's Volleyball Pool Play \, Final\, 3-0
UID:a8l3l2jj3jpo7i4l@prestosports.com
END:VEVENT
BEGIN:VEVENT
DTSTAMP:20240411T090444Z
DTSTART:20221202T190000Z
DURATION:PT3H
SUMMARY:(Women's Volleyball) Bellevue (Neb.) vs. Midland
TRANSP:TRANSPARENT
CATEGORIES:Women's Volleyball
LOCATION:Sioux City\, IA
DESCRIPTION:Women's Volleyball: (Women's Volleyball) Bellevue (Neb.) vs. Midland\, NAIA Women's Volleyball Pool Play \, Final\, 0-3
UID:a017lajma05emb44@prestosports.com
END:VEVENT
BEGIN:VEVENT
DTSTAMP:20240411T090444Z
DTSTART:20221202T190000Z
DURATION:PT3H
SUMMARY:(Women's Volleyball) Park vs. Concordia (Neb.)
TRANSP:TRANSPARENT
CATEGORIES:Women's Volleyball
LOCATION:Sioux City\, IA
DESCRIPTION:Women's Volleyball: (Women's Volleyball) Park vs. Concordia (Neb.)\, NAIA Women's Volleyball Pool Play \, Final\, 3-1
UID:sa7pmalpem95amfa@prestosports.com
END:VEVENT
BEGIN:VEVENT
DTSTAMP:20240411T090444Z
DTSTART:20221202T220000Z
DURATION:PT3H
SUMMARY:(Women's Volleyball) Taylor (Ind.) vs. Corban (OR)
TRANSP:TRANSPARENT
CATEGORIES:Women's Volleyball
LOCATION:Sioux City\, IA
DESCRIPTION:Women's Volleyball: (Women's Volleyball) Taylor (Ind.) vs. Corban (OR)\, NAIA Women's Volleyball Pool Play \, Final\, 0-3
UID:6kml1b8d5pfyyaq6@prestosports.com
END:VEVENT
BEGIN:VEVENT
DTSTAMP:20240411T090444Z
DTSTART:20221202T220000Z
DURATION:PT3H
SUMMARY:(Women's Volleyball) SAGU (Texas) vs. Northwestern (Iowa)
TRANSP:TRANSPARENT
CATEGORIES:Women's Volleyball
LOCATION:Sioux City\, IA
DESCRIPTION:Women's Volleyball: (Women's Volleyball) SAGU (Texas) vs. Northwestern (Iowa)\, NAIA Women's Volleyball Pool Play \, Final\, 0-3
UID:u4ylc5vacl29ud23@prestosports.com
END:VEVENT
BEGIN:VEVENT
DTSTAMP:20240411T090444Z
DTSTART:20221203T010000Z
DURATION:PT3H
SUMMARY:(Women's Volleyball) MidAmerica Nazarene (Kan.) vs. Dakota Wesleyan (S.D.)
TRANSP:TRANSPARENT
CATEGORIES:Women's Volleyball
LOCATION:Sioux City\, IA
DESCRIPTION:Women's Volleyball: (Women's Volleyball) MidAmerica Nazarene (Kan.) vs. Dakota Wesleyan (S.D.)\, NAIA Women's Volleyball Pool Play \, Final\, 1-3
UID:dzpexsamil4kszg7@prestosports.com
END:VEVENT
BEGIN:VEVENT
DTSTAMP:20240411T090444Z
DTSTART:20221203T010000Z
DURATION:PT3H
SUMMARY:(Women's Volleyball) Viterbo vs. Missouri Baptist
TRANSP:TRANSPARENT
CATEGORIES:Women's Volleyball
LOCATION:Sioux City\, IA
DESCRIPTION:Women's Volleyball: (Women's Volleyball) Viterbo vs. Missouri Baptist\, NAIA Women's Volleyball Pool Play \, Final\, 3-0
UID:2wxjua8bhc1vtajx@prestosports.com
END:VEVENT
END:VCALENDAR
