BEGIN:VCALENDAR
PRODID:-//www.prestosports.com//PrestoSports//EN
VERSION:2.0
CALSCALE:GREGORIAN
BEGIN:VEVENT
DTSTAMP:20240411T100307Z
DTSTART:20231130T190000Z
DURATION:PT3H
SUMMARY:(Women's Volleyball) Montana Western (MT) vs. Midland
TRANSP:TRANSPARENT
CATEGORIES:Women's Volleyball
LOCATION:Sioux City\, IA
DESCRIPTION:Women's Volleyball: (Women's Volleyball) Montana Western (MT) vs. Midland\, NAIA WVB Championship Pool Play\, Final\, 3-1
UID:i4dfeenfbfu9fhkc@prestosports.com
END:VEVENT
BEGIN:VEVENT
DTSTAMP:20240411T100307Z
DTSTART:20231201T190000Z
DURATION:PT3H
SUMMARY:(Women's Volleyball) Midland vs. Concordia (Neb.)
TRANSP:TRANSPARENT
CATEGORIES:Women's Volleyball
LOCATION:Sioux City\, IA
DESCRIPTION:Women's Volleyball: (Women's Volleyball) Midland vs. Concordia (Neb.)\, NAIA WVB Championship Pool Play \, Final\, 3-0
UID:v254htkpqtwioqdy@prestosports.com
END:VEVENT
END:VCALENDAR
