BEGIN:VCALENDAR
PRODID:-//www.prestosports.com//PrestoSports//EN
VERSION:2.0
CALSCALE:GREGORIAN
BEGIN:VEVENT
DTSTAMP:20240411T100254Z
DTSTART:20231129T190000Z
DURATION:PT3H
SUMMARY:(Women's Volleyball) Valley City State vs. Eastern Oregon
TRANSP:TRANSPARENT
CATEGORIES:Women's Volleyball
LOCATION:Sioux City\, IA
DESCRIPTION:Women's Volleyball: (Women's Volleyball) Valley City State vs. Eastern Oregon\, NAIA WVB Championship Pool Play\, Final\, 0-3
UID:z2kpxbf9g02ky6su@prestosports.com
END:VEVENT
BEGIN:VEVENT
DTSTAMP:20240411T100254Z
DTSTART:20231130T190000Z
DURATION:PT3H
SUMMARY:(Women's Volleyball) Valley City State vs. Montana Tech (MT)
TRANSP:TRANSPARENT
CATEGORIES:Women's Volleyball
LOCATION:Sioux City\, Iowa
DESCRIPTION:Women's Volleyball: (Women's Volleyball) Valley City State vs. Montana Tech (MT)\, NAIA WVB Championship Pool Play\, Final\, 0-3
UID:2cl77nck5co144dz@prestosports.com
END:VEVENT
END:VCALENDAR
