BEGIN:VCALENDAR
PRODID:-//www.prestosports.com//PrestoSports//EN
VERSION:2.0
CALSCALE:GREGORIAN
BEGIN:VEVENT
DTSTAMP:20240411T100238Z
DTSTART:20231130T160000Z
DURATION:PT3H
SUMMARY:(Women's Volleyball) Oklahoma Wesleyan vs. IU Kokomo (Ind.)
TRANSP:TRANSPARENT
CATEGORIES:Women's Volleyball
LOCATION:Sioux City\, IA
DESCRIPTION:Women's Volleyball: (Women's Volleyball) Oklahoma Wesleyan vs. IU Kokomo (Ind.)\, NAIA WVB Championship Pool Play\, Final\, 3-1
UID:jtddebk7q9tn7ewx@prestosports.com
END:VEVENT
BEGIN:VEVENT
DTSTAMP:20240411T100238Z
DTSTART:20231201T160000Z
DURATION:PT3H
SUMMARY:(Women's Volleyball) IU Kokomo (Ind.) vs. Indiana Wesleyan (IN)
TRANSP:TRANSPARENT
CATEGORIES:Women's Volleyball
LOCATION:Sioux City IA
DESCRIPTION:Women's Volleyball: (Women's Volleyball) IU Kokomo (Ind.) vs. Indiana Wesleyan (IN)\, NAIA WVB Championship Pool Play\, Final\, 2-3
UID:uduga4z9mzqgeuvp@prestosports.com
END:VEVENT
END:VCALENDAR
