BEGIN:VCALENDAR
PRODID:-//www.prestosports.com//PrestoSports//EN
VERSION:2.0
CALSCALE:GREGORIAN
BEGIN:VEVENT
DTSTAMP:20240411T100253Z
DTSTART:20231129T220000Z
DURATION:PT3H
SUMMARY:(Women's Volleyball) Saint Katherine (Calif.) vs. Missouri Baptist
TRANSP:TRANSPARENT
CATEGORIES:Women's Volleyball
LOCATION:Sioux City\, Iowa
DESCRIPTION:Women's Volleyball: (Women's Volleyball) Saint Katherine (Calif.) vs. Missouri Baptist\, NAIA WVB Championship Pool Play\, Final\, 0-3
UID:45j71yb7c6x0y4xw@prestosports.com
END:VEVENT
BEGIN:VEVENT
DTSTAMP:20240411T100253Z
DTSTART:20231130T220000Z
DURATION:PT3H
SUMMARY:(Women's Volleyball) Saint Katherine (Calif.) vs. Vanguard
TRANSP:TRANSPARENT
CATEGORIES:Women's Volleyball
LOCATION:Sioux City\, IA
DESCRIPTION:Women's Volleyball: (Women's Volleyball) Saint Katherine (Calif.) vs. Vanguard\, NAIA WVB Championship Pool Play\, Final\, 1-3
UID:lcp6ous8gwpgx203@prestosports.com
END:VEVENT
END:VCALENDAR
